BEGIN:VCALENDAR
VERSION:2.0
PRODID:-//Union d&#039;Associations Françaises de Stomisés - ECPv6.15.20//NONSGML v1.0//EN
CALSCALE:GREGORIAN
METHOD:PUBLISH
X-ORIGINAL-URL:https://uafstomises.com
X-WR-CALDESC:Évènements pour Union d&#039;Associations Françaises de Stomisés
REFRESH-INTERVAL;VALUE=DURATION:PT1H
X-Robots-Tag:noindex
X-PUBLISHED-TTL:PT1H
BEGIN:VTIMEZONE
TZID:Europe/Paris
BEGIN:DAYLIGHT
TZOFFSETFROM:+0100
TZOFFSETTO:+0200
TZNAME:CEST
DTSTART:20240331T010000
END:DAYLIGHT
BEGIN:STANDARD
TZOFFSETFROM:+0200
TZOFFSETTO:+0100
TZNAME:CET
DTSTART:20241027T010000
END:STANDARD
BEGIN:DAYLIGHT
TZOFFSETFROM:+0100
TZOFFSETTO:+0200
TZNAME:CEST
DTSTART:20250330T010000
END:DAYLIGHT
BEGIN:STANDARD
TZOFFSETFROM:+0200
TZOFFSETTO:+0100
TZNAME:CET
DTSTART:20251026T010000
END:STANDARD
BEGIN:DAYLIGHT
TZOFFSETFROM:+0100
TZOFFSETTO:+0200
TZNAME:CEST
DTSTART:20260329T010000
END:DAYLIGHT
BEGIN:STANDARD
TZOFFSETFROM:+0200
TZOFFSETTO:+0100
TZNAME:CET
DTSTART:20261025T010000
END:STANDARD
END:VTIMEZONE
BEGIN:VEVENT
DTSTART;TZID=Europe/Paris:20250319T190000
DTEND;TZID=Europe/Paris:20250319T200000
DTSTAMP:20260422T145254
CREATED:20250318T105150Z
LAST-MODIFIED:20250318T105155Z
UID:1988-1742410800-1742414400@uafstomises.com
SUMMARY:Chirurgie colorectale et Stomie digestive\, parlons en !
DESCRIPTION:\n													\n								Accueil							\n					\n				\n				\n			\n\n		 5\n					\n						Évènements\n					\n					\n					\n			\n				\n			\n				\n				\n				\n				\n				\n					\n					\n						\n						Mercredi 19 mars à 19h – Chirurgie colorectale et Stomie digestive\, parlons en ! – Webinaire organisé par l’Institut Universitaire de Cancérologie AP-HP Sorbonne Universités
URL:https://uafstomises.com/evenement/chirurgie-colorectale-et-stomie-digestive-parlons-en/
LOCATION:Avignon
CATEGORIES:#MARSBLEU 2025,Webinaire
ATTACH;FMTTYPE=image/jpeg:https://uafstomises.com/wp-content/uploads/2025/03/CHIRURGIE-COLORETALE-ET-STOMIE-DIGESTIVE-PARLONS-EN-19-03-2025.jpg
END:VEVENT
END:VCALENDAR