BEGIN:VCALENDAR
VERSION:2.0
PRODID:-//Union d&#039;Associations Françaises de Stomisés - ECPv6.15.20//NONSGML v1.0//EN
CALSCALE:GREGORIAN
METHOD:PUBLISH
X-WR-CALNAME:Union d&#039;Associations Françaises de Stomisés
X-ORIGINAL-URL:https://uafstomises.com
X-WR-CALDESC:Évènements pour Union d&#039;Associations Françaises de Stomisés
REFRESH-INTERVAL;VALUE=DURATION:PT1H
X-Robots-Tag:noindex
X-PUBLISHED-TTL:PT1H
BEGIN:VTIMEZONE
TZID:Europe/Paris
BEGIN:DAYLIGHT
TZOFFSETFROM:+0100
TZOFFSETTO:+0200
TZNAME:CEST
DTSTART:20240331T010000
END:DAYLIGHT
BEGIN:STANDARD
TZOFFSETFROM:+0200
TZOFFSETTO:+0100
TZNAME:CET
DTSTART:20241027T010000
END:STANDARD
BEGIN:DAYLIGHT
TZOFFSETFROM:+0100
TZOFFSETTO:+0200
TZNAME:CEST
DTSTART:20250330T010000
END:DAYLIGHT
BEGIN:STANDARD
TZOFFSETFROM:+0200
TZOFFSETTO:+0100
TZNAME:CET
DTSTART:20251026T010000
END:STANDARD
BEGIN:DAYLIGHT
TZOFFSETFROM:+0100
TZOFFSETTO:+0200
TZNAME:CEST
DTSTART:20260329T010000
END:DAYLIGHT
BEGIN:STANDARD
TZOFFSETFROM:+0200
TZOFFSETTO:+0100
TZNAME:CET
DTSTART:20261025T010000
END:STANDARD
END:VTIMEZONE
BEGIN:VEVENT
DTSTART;TZID=Europe/Paris:20250618T143000
DTEND;TZID=Europe/Paris:20250618T163000
DTSTAMP:20260420T090749
CREATED:20250130T075016Z
LAST-MODIFIED:20250504T200904Z
UID:1878-1750257000-1750264200@uafstomises.com
SUMMARY:Ecole de stomathérapie - CHU Nîmes
DESCRIPTION:\n													\n								Accueil							\n					\n				\n				\n			\n\n		 5\n					\n						Évènements\n					\n					\n					\n			\n				\n			\n				\n				\n				\n				\n				Mercredi 18 juin – CHU Nîmes –  Formation Certificat en stomathérapie – Rôle et place des associations
URL:https://uafstomises.com/evenement/partenariat-esford/
CATEGORIES:Formation
ATTACH;FMTTYPE=image/jpeg:https://uafstomises.com/wp-content/uploads/2025/01/ECOLE-STOMATHERAPIE-CHU-NIMES-18-06-2025.jpg
END:VEVENT
END:VCALENDAR