BEGIN:VCALENDAR
VERSION:2.0
PRODID:-//Union d&#039;Associations Françaises de Stomisés - ECPv6.15.20//NONSGML v1.0//EN
CALSCALE:GREGORIAN
METHOD:PUBLISH
X-ORIGINAL-URL:https://uafstomises.com
X-WR-CALDESC:Évènements pour Union d&#039;Associations Françaises de Stomisés
REFRESH-INTERVAL;VALUE=DURATION:PT1H
X-Robots-Tag:noindex
X-PUBLISHED-TTL:PT1H
BEGIN:VTIMEZONE
TZID:Europe/Paris
BEGIN:DAYLIGHT
TZOFFSETFROM:+0100
TZOFFSETTO:+0200
TZNAME:CEST
DTSTART:20240331T010000
END:DAYLIGHT
BEGIN:STANDARD
TZOFFSETFROM:+0200
TZOFFSETTO:+0100
TZNAME:CET
DTSTART:20241027T010000
END:STANDARD
BEGIN:DAYLIGHT
TZOFFSETFROM:+0100
TZOFFSETTO:+0200
TZNAME:CEST
DTSTART:20250330T010000
END:DAYLIGHT
BEGIN:STANDARD
TZOFFSETFROM:+0200
TZOFFSETTO:+0100
TZNAME:CET
DTSTART:20251026T010000
END:STANDARD
BEGIN:DAYLIGHT
TZOFFSETFROM:+0100
TZOFFSETTO:+0200
TZNAME:CEST
DTSTART:20260329T010000
END:DAYLIGHT
BEGIN:STANDARD
TZOFFSETFROM:+0200
TZOFFSETTO:+0100
TZNAME:CET
DTSTART:20261025T010000
END:STANDARD
END:VTIMEZONE
BEGIN:VEVENT
DTSTART;TZID=Europe/Paris:20250619T083000
DTEND;TZID=Europe/Paris:20250619T163000
DTSTAMP:20260420T091210
CREATED:20250504T201718Z
LAST-MODIFIED:20250504T201945Z
UID:2080-1750321800-1750350600@uafstomises.com
SUMMARY:26ième journée d'étude des infirmiers stomathérapeutes - IMS CHU Bordeaux
DESCRIPTION:\n													\n								Accueil							\n					\n				\n				\n			\n\n		 5\n					\n						Évènements\n					\n					\n					\n			\n				\n			\n				\n				\n				\n				\n				26ième journée d’étude des infirmiers et infirmières stomathérapeutes -IMS CHU Bordeaux – jeudi 19 juin 2025 – tenue de stand
URL:https://uafstomises.com/evenement/ecole-de-stomatherapie-chu-nimes/
CATEGORIES:Formation
ATTACH;FMTTYPE=image/jpeg:https://uafstomises.com/wp-content/uploads/2025/05/26ieme-journe-detude-des-infirmiers-stomatherapeutes-CHU-Bordeaux.jpg
END:VEVENT
END:VCALENDAR