BEGIN:VCALENDAR
VERSION:2.0
PRODID:-//Union d&#039;Associations Françaises de Stomisés - ECPv6.15.20//NONSGML v1.0//EN
CALSCALE:GREGORIAN
METHOD:PUBLISH
X-ORIGINAL-URL:https://uafstomises.com
X-WR-CALDESC:Évènements pour Union d&#039;Associations Françaises de Stomisés
REFRESH-INTERVAL;VALUE=DURATION:PT1H
X-Robots-Tag:noindex
X-PUBLISHED-TTL:PT1H
BEGIN:VTIMEZONE
TZID:Europe/Paris
BEGIN:DAYLIGHT
TZOFFSETFROM:+0100
TZOFFSETTO:+0200
TZNAME:CEST
DTSTART:20250330T010000
END:DAYLIGHT
BEGIN:STANDARD
TZOFFSETFROM:+0200
TZOFFSETTO:+0100
TZNAME:CET
DTSTART:20251026T010000
END:STANDARD
BEGIN:DAYLIGHT
TZOFFSETFROM:+0100
TZOFFSETTO:+0200
TZNAME:CEST
DTSTART:20260329T010000
END:DAYLIGHT
BEGIN:STANDARD
TZOFFSETFROM:+0200
TZOFFSETTO:+0100
TZNAME:CET
DTSTART:20261025T010000
END:STANDARD
BEGIN:DAYLIGHT
TZOFFSETFROM:+0100
TZOFFSETTO:+0200
TZNAME:CEST
DTSTART:20270328T010000
END:DAYLIGHT
BEGIN:STANDARD
TZOFFSETFROM:+0200
TZOFFSETTO:+0100
TZNAME:CET
DTSTART:20271031T010000
END:STANDARD
END:VTIMEZONE
BEGIN:VEVENT
DTSTART;TZID=Europe/Paris:20260209T163000
DTEND;TZID=Europe/Paris:20260209T183000
DTSTAMP:20260419T173126
CREATED:20241203T072352Z
LAST-MODIFIED:20260313T101432Z
UID:1544-1770654600-1770661800@uafstomises.com
SUMMARY:Congrès national UAFS 2025
DESCRIPTION:\n													\n								Accueil							\n					\n				\n				\n			\n\n		 5\n					\n						Évènements
URL:https://uafstomises.com/evenement/congres-national-uafs-2025/
CATEGORIES:Réunion
ATTACH;FMTTYPE=image/png:https://uafstomises.com/wp-content/uploads/2026/03/CA-UAFS-9-02.png
END:VEVENT
BEGIN:VEVENT
DTSTART;TZID=Europe/Paris:20260209T163000
DTEND;TZID=Europe/Paris:20260209T183000
DTSTAMP:20260419T173127
CREATED:20260313T104610Z
LAST-MODIFIED:20260313T104721Z
UID:2159-1770654600-1770661800@uafstomises.com
SUMMARY:CA Union d'Associations Françaises de Stomisés
DESCRIPTION:\n													\n								Accueil							\n					\n				\n				\n			\n\n		 5\n					\n						Évènements
URL:https://uafstomises.com/evenement/ca/
CATEGORIES:Réunion
ATTACH;FMTTYPE=image/png:https://uafstomises.com/wp-content/uploads/2026/03/CA-UAFS-9-02.png
END:VEVENT
END:VCALENDAR