BEGIN:VCALENDAR
VERSION:2.0
PRODID:-//Union d&#039;Associations Françaises de Stomisés - ECPv6.15.20//NONSGML v1.0//EN
CALSCALE:GREGORIAN
METHOD:PUBLISH
X-WR-CALNAME:Union d&#039;Associations Françaises de Stomisés
X-ORIGINAL-URL:https://uafstomises.com
X-WR-CALDESC:Évènements pour Union d&#039;Associations Françaises de Stomisés
REFRESH-INTERVAL;VALUE=DURATION:PT1H
X-Robots-Tag:noindex
X-PUBLISHED-TTL:PT1H
BEGIN:VTIMEZONE
TZID:Europe/Paris
BEGIN:DAYLIGHT
TZOFFSETFROM:+0100
TZOFFSETTO:+0200
TZNAME:CEST
DTSTART:20240331T010000
END:DAYLIGHT
BEGIN:STANDARD
TZOFFSETFROM:+0200
TZOFFSETTO:+0100
TZNAME:CET
DTSTART:20241027T010000
END:STANDARD
BEGIN:DAYLIGHT
TZOFFSETFROM:+0100
TZOFFSETTO:+0200
TZNAME:CEST
DTSTART:20250330T010000
END:DAYLIGHT
BEGIN:STANDARD
TZOFFSETFROM:+0200
TZOFFSETTO:+0100
TZNAME:CET
DTSTART:20251026T010000
END:STANDARD
BEGIN:DAYLIGHT
TZOFFSETFROM:+0100
TZOFFSETTO:+0200
TZNAME:CEST
DTSTART:20260329T010000
END:DAYLIGHT
BEGIN:STANDARD
TZOFFSETFROM:+0200
TZOFFSETTO:+0100
TZNAME:CET
DTSTART:20261025T010000
END:STANDARD
END:VTIMEZONE
BEGIN:VEVENT
DTSTART;TZID=Europe/Paris:20250203T160000
DTEND;TZID=Europe/Paris:20250203T173000
DTSTAMP:20260423T121230
CREATED:20250130T063211Z
LAST-MODIFIED:20250130T080204Z
UID:1851-1738598400-1738603800@uafstomises.com
SUMMARY:Congrès national UAFS 2025 - 3e COPIL C.S
DESCRIPTION:\n													\n								Accueil							\n					\n				\n				\n			\n\n		 5\n					\n						Symposium\n					\n					\n					\n			\n				\n			\n				\n				\n				\n				\n				le 3 février 2025 à 16h​ • Congrès national UAFS – 3e COPIL C.S
URL:https://uafstomises.com/evenement/congres-national-uafs-2025-3e-copil-c-s/
CATEGORIES:Réunion,Symposium
ATTACH;FMTTYPE=image/jpeg:https://uafstomises.com/wp-content/uploads/2025/01/2025-02-03-congres-national-uafs.jpg
END:VEVENT
END:VCALENDAR