BEGIN:VCALENDAR
VERSION:2.0
PRODID:-//Union d&#039;Associations Françaises de Stomisés - ECPv6.15.20//NONSGML v1.0//EN
CALSCALE:GREGORIAN
METHOD:PUBLISH
X-WR-CALNAME:Union d&#039;Associations Françaises de Stomisés
X-ORIGINAL-URL:https://uafstomises.com
X-WR-CALDESC:Évènements pour Union d&#039;Associations Françaises de Stomisés
REFRESH-INTERVAL;VALUE=DURATION:PT1H
X-Robots-Tag:noindex
X-PUBLISHED-TTL:PT1H
BEGIN:VTIMEZONE
TZID:Europe/Paris
BEGIN:DAYLIGHT
TZOFFSETFROM:+0100
TZOFFSETTO:+0200
TZNAME:CEST
DTSTART:20240331T010000
END:DAYLIGHT
BEGIN:STANDARD
TZOFFSETFROM:+0200
TZOFFSETTO:+0100
TZNAME:CET
DTSTART:20241027T010000
END:STANDARD
BEGIN:DAYLIGHT
TZOFFSETFROM:+0100
TZOFFSETTO:+0200
TZNAME:CEST
DTSTART:20250330T010000
END:DAYLIGHT
BEGIN:STANDARD
TZOFFSETFROM:+0200
TZOFFSETTO:+0100
TZNAME:CET
DTSTART:20251026T010000
END:STANDARD
BEGIN:DAYLIGHT
TZOFFSETFROM:+0100
TZOFFSETTO:+0200
TZNAME:CEST
DTSTART:20260329T010000
END:DAYLIGHT
BEGIN:STANDARD
TZOFFSETFROM:+0200
TZOFFSETTO:+0100
TZNAME:CET
DTSTART:20261025T010000
END:STANDARD
END:VTIMEZONE
BEGIN:VEVENT
DTSTART;TZID=Europe/Paris:20250303T180000
DTEND;TZID=Europe/Paris:20250303T200000
DTSTAMP:20260422T125123
CREATED:20250318T102016Z
LAST-MODIFIED:20250318T102139Z
UID:1967-1741024800-1741032000@uafstomises.com
SUMMARY:L'Assemblée nationale en BLEU !
DESCRIPTION:\n													\n								Accueil							\n					\n				\n				\n			\n\n		 5\n					\n						Évènements\n					\n					\n					\n			\n				\n			\n				\n				\n				\n				\n				Le lundi 3 mars 2025 à 18h – Réunion avec le député Lauzanna\, visite guidée suivi de l’Illumination en bleu de l’Assemblée nationale
URL:https://uafstomises.com/evenement/icap-unicancer-2/
CATEGORIES:#MARSBLEU 2025,Webinaire
ATTACH;FMTTYPE=image/jpeg:https://uafstomises.com/wp-content/uploads/2025/03/ASSEMBLEE-NATIONALE-3-03-2025.jpg
END:VEVENT
BEGIN:VEVENT
DTSTART;TZID=Europe/Paris:20250304T170000
DTEND;TZID=Europe/Paris:20250304T180000
DTSTAMP:20260422T125123
CREATED:20250130T081624Z
LAST-MODIFIED:20250130T082233Z
UID:1896-1741107600-1741111200@uafstomises.com
SUMMARY:Stom’Visio - Aidants\, comment mieux les accompagner ?
DESCRIPTION:\n													\n								Accueil							\n					\n				\n				\n			\n\n		 5\n					\n						Évènements\n					\n					\n					\n			\n				\n			\n				\n				\n				\n				\n				Le Mardi 4 mars 2025 de 17h00​ à 18h00 • Stom’Visio : Aidants\, comment mieux les accompagner ?
URL:https://uafstomises.com/evenement/stomvisio-aidants-comment-mieux-les-accompagner/
CATEGORIES:Visioconférence
ATTACH;FMTTYPE=image/jpeg:https://uafstomises.com/wp-content/uploads/2025/01/2025-03-04-stom-visio.jpg
END:VEVENT
BEGIN:VEVENT
DTSTART;TZID=Europe/Paris:20250311T140000
DTEND;TZID=Europe/Paris:20250311T153000
DTSTAMP:20260422T125123
CREATED:20250130T081920Z
LAST-MODIFIED:20250130T082144Z
UID:1900-1741701600-1741707000@uafstomises.com
SUMMARY:ICAP & Unicancer
DESCRIPTION:\n													\n								Accueil							\n					\n				\n				\n			\n\n		 5\n					\n						Évènements\n					\n					\n					\n			\n				\n			\n				\n				\n				\n				\n				Le Mardi 11 mars 2025 à 14h00​ • ICAP & Unicancer • Webinaire “Stomies\, trucs et astuces” (à destination des professionnels de santé)
URL:https://uafstomises.com/evenement/icap-unicancer/
CATEGORIES:Webinaire
ATTACH;FMTTYPE=image/jpeg:https://uafstomises.com/wp-content/uploads/2025/01/2025-03-11-icap-unicancer.jpg
END:VEVENT
BEGIN:VEVENT
DTSTART;TZID=Europe/Paris:20250318T183000
DTEND;TZID=Europe/Paris:20250318T213000
DTSTAMP:20260422T125123
CREATED:20250318T103256Z
LAST-MODIFIED:20250318T104748Z
UID:1972-1742322600-1742333400@uafstomises.com
SUMMARY:Grande soirée d'informations organisée par Oncosud
DESCRIPTION:\n													\n								Accueil							\n					\n				\n				\n			\n\n		 5\n					\n						Évènements\n					\n					\n					\n			\n				\n			\n				\n				\n				\n				\n				\n					\n					\n						\n						Mardi 18 mars 2025 – Grande soirée d’information organisée par Oncosud – ‘Tout savoir sur le cancer colorectal\, de la prévention à la guérison’
URL:https://uafstomises.com/evenement/icap-unicancer-3/
LOCATION:Avignon
CATEGORIES:#MARSBLEU 2025,Réunion
ATTACH;FMTTYPE=image/jpeg:https://uafstomises.com/wp-content/uploads/2025/03/GRANDE-SOIREE-DiNFORMATIONS-ONCOSUD-AVIGNON-18-03-2025.jpg
END:VEVENT
BEGIN:VEVENT
DTSTART;TZID=Europe/Paris:20250319T190000
DTEND;TZID=Europe/Paris:20250319T200000
DTSTAMP:20260422T125123
CREATED:20250318T105150Z
LAST-MODIFIED:20250318T105155Z
UID:1988-1742410800-1742414400@uafstomises.com
SUMMARY:Chirurgie colorectale et Stomie digestive\, parlons en !
DESCRIPTION:\n													\n								Accueil							\n					\n				\n				\n			\n\n		 5\n					\n						Évènements\n					\n					\n					\n			\n				\n			\n				\n				\n				\n				\n				\n					\n					\n						\n						Mercredi 19 mars à 19h – Chirurgie colorectale et Stomie digestive\, parlons en ! – Webinaire organisé par l’Institut Universitaire de Cancérologie AP-HP Sorbonne Universités
URL:https://uafstomises.com/evenement/chirurgie-colorectale-et-stomie-digestive-parlons-en/
LOCATION:Avignon
CATEGORIES:#MARSBLEU 2025,Webinaire
ATTACH;FMTTYPE=image/jpeg:https://uafstomises.com/wp-content/uploads/2025/03/CHIRURGIE-COLORETALE-ET-STOMIE-DIGESTIVE-PARLONS-EN-19-03-2025.jpg
END:VEVENT
BEGIN:VEVENT
DTSTART;TZID=Europe/Paris:20250329T093000
DTEND;TZID=Europe/Paris:20250329T133000
DTSTAMP:20260422T125123
CREATED:20250318T105948Z
LAST-MODIFIED:20250318T105952Z
UID:1995-1743240600-1743255000@uafstomises.com
SUMMARY:Course bleue à Sète (34)
DESCRIPTION:\n													\n								Accueil							\n					\n				\n				\n			\n\n		 5\n					\n						Évènements\n					\n					\n					\n			\n				\n			\n				\n				\n				\n				\n				\n					\n					\n						\n						Samedi 29 mars à 9h30 – Course bleue à Sète organisée par le Dr Eric Boulay – L’Union tient un stand aux côtés de Patients en réseau Mon Réseau Cancer Colorectal\n 
URL:https://uafstomises.com/evenement/course-bleue-a-sete-34/
LOCATION:Avignon
CATEGORIES:#MARSBLEU 2025,course
ATTACH;FMTTYPE=image/jpeg:https://uafstomises.com/wp-content/uploads/2025/03/course-bleue-sete-29-03-2025.jpg
END:VEVENT
END:VCALENDAR