BEGIN:VCALENDAR
VERSION:2.0
PRODID:-//Union d&#039;Associations Françaises de Stomisés - ECPv6.15.20//NONSGML v1.0//EN
CALSCALE:GREGORIAN
METHOD:PUBLISH
X-WR-CALNAME:Union d&#039;Associations Françaises de Stomisés
X-ORIGINAL-URL:https://uafstomises.com
X-WR-CALDESC:Évènements pour Union d&#039;Associations Françaises de Stomisés
REFRESH-INTERVAL;VALUE=DURATION:PT1H
X-Robots-Tag:noindex
X-PUBLISHED-TTL:PT1H
BEGIN:VTIMEZONE
TZID:Europe/Paris
BEGIN:DAYLIGHT
TZOFFSETFROM:+0100
TZOFFSETTO:+0200
TZNAME:CEST
DTSTART:20240331T010000
END:DAYLIGHT
BEGIN:STANDARD
TZOFFSETFROM:+0200
TZOFFSETTO:+0100
TZNAME:CET
DTSTART:20241027T010000
END:STANDARD
BEGIN:DAYLIGHT
TZOFFSETFROM:+0100
TZOFFSETTO:+0200
TZNAME:CEST
DTSTART:20250330T010000
END:DAYLIGHT
BEGIN:STANDARD
TZOFFSETFROM:+0200
TZOFFSETTO:+0100
TZNAME:CET
DTSTART:20251026T010000
END:STANDARD
BEGIN:DAYLIGHT
TZOFFSETFROM:+0100
TZOFFSETTO:+0200
TZNAME:CEST
DTSTART:20260329T010000
END:DAYLIGHT
BEGIN:STANDARD
TZOFFSETFROM:+0200
TZOFFSETTO:+0100
TZNAME:CET
DTSTART:20261025T010000
END:STANDARD
END:VTIMEZONE
BEGIN:VEVENT
DTSTART;TZID=Europe/Paris:20250409T160000
DTEND;TZID=Europe/Paris:20250409T183000
DTSTAMP:20260422T110544
CREATED:20250504T192032Z
LAST-MODIFIED:20250504T192036Z
UID:2036-1744214400-1744223400@uafstomises.com
SUMMARY:Congrès national UAFS 2025 -  COPILs C.S. & élargi
DESCRIPTION:\n													\n								Accueil							\n					\n				\n				\n			\n\n		 5\n					\n						Évènements\n					\n					\n					\n			\n				\n			\n				\n				\n				\n				\n				le 9 avril 2025 à 16h • Congrès national UAFS – COPILs C.S. & élargi
URL:https://uafstomises.com/evenement/congres-national-uafs-2025-copils-c-s-elargi/
CATEGORIES:Réunion,Symposium
ATTACH;FMTTYPE=image/jpeg:https://uafstomises.com/wp-content/uploads/2025/05/template-COPILs-9-avril-2025-a-16h.jpg
END:VEVENT
BEGIN:VEVENT
DTSTART;TZID=Europe/Paris:20250410T100000
DTEND;TZID=Europe/Paris:20250410T120000
DTSTAMP:20260422T110544
CREATED:20250130T074438Z
LAST-MODIFIED:20250504T194950Z
UID:1870-1744279200-1744286400@uafstomises.com
SUMMARY:Congrès national UAFS
DESCRIPTION:\n													\n								Accueil							\n					\n				\n				\n			\n\n		 5\n					\n						Évènements\n					\n					\n					\n			\n				\n			\n				\n				\n				\n				\n				le 10 avril 2025 • Congrès national UAFS
URL:https://uafstomises.com/evenement/congres-national-uafs/
CATEGORIES:Réunion
ATTACH;FMTTYPE=image/jpeg:https://uafstomises.com/wp-content/uploads/2025/05/1ER-CONGRES-NATIONAL-ALPEXPO-10-04-2025-1.jpg
END:VEVENT
BEGIN:VEVENT
DTSTART;TZID=Europe/Paris:20250422T143000
DTEND;TZID=Europe/Paris:20250422T163000
DTSTAMP:20260422T110544
CREATED:20250504T191318Z
LAST-MODIFIED:20250504T191458Z
UID:2030-1745332200-1745339400@uafstomises.com
SUMMARY:Partenariat ESFORD
DESCRIPTION:\n													\n								Accueil							\n					\n				\n				\n			\n\n		 5\n					\n						Évènements\n					\n					\n					\n			\n				\n			\n				\n				\n				\n				\n				Le Mardi 22 avril 2025 à 14h30 • Partenariat ESFORD • Formation Certificat en stomathérapie – Rôle et place des associations
URL:https://uafstomises.com/evenement/partenariat-esford-2/
CATEGORIES:Formation
ATTACH;FMTTYPE=image/jpeg:https://uafstomises.com/wp-content/uploads/2025/05/template-ESFORD-LYON-22-04-2025.jpg
END:VEVENT
BEGIN:VEVENT
DTSTART;TZID=Europe/Paris:20250425T180000
DTEND;TZID=Europe/Paris:20250425T193000
DTSTAMP:20260422T110544
CREATED:20250504T200229Z
LAST-MODIFIED:20250504T200232Z
UID:2073-1745604000-1745609400@uafstomises.com
SUMMARY:Stomisés sans frontières
DESCRIPTION:\n													\n								Accueil							\n					\n				\n				\n			\n\n		 5\n					\n						Évènements\n					\n					\n					\n			\n				\n			\n				\n				\n				\n				\n				le 25 AVRIL 2025 à 18h00​ • Stomisés sans frontières • Réunion préparation édition 2025
URL:https://uafstomises.com/evenement/stomises-sans-frontieres-2/
CATEGORIES:Réunion
ATTACH;FMTTYPE=image/jpeg:https://uafstomises.com/wp-content/uploads/2025/05/SSF-25-05-2025.jpg
END:VEVENT
END:VCALENDAR